BEGIN:VCALENDAR
VERSION:2.0
PRODID:-//Warri Progressive Society UK - ECPv6.15.17//NONSGML v1.0//EN
CALSCALE:GREGORIAN
METHOD:PUBLISH
X-WR-CALNAME:Warri Progressive Society UK
X-ORIGINAL-URL:https://otonloyeuk.co.uk
X-WR-CALDESC:Events for Warri Progressive Society UK
REFRESH-INTERVAL;VALUE=DURATION:PT1H
X-Robots-Tag:noindex
X-PUBLISHED-TTL:PT1H
BEGIN:VTIMEZONE
TZID:Europe/London
BEGIN:DAYLIGHT
TZOFFSETFROM:+0000
TZOFFSETTO:+0100
TZNAME:BST
DTSTART:20230326T010000
END:DAYLIGHT
BEGIN:STANDARD
TZOFFSETFROM:+0100
TZOFFSETTO:+0000
TZNAME:GMT
DTSTART:20231029T010000
END:STANDARD
BEGIN:DAYLIGHT
TZOFFSETFROM:+0000
TZOFFSETTO:+0100
TZNAME:BST
DTSTART:20240331T010000
END:DAYLIGHT
BEGIN:STANDARD
TZOFFSETFROM:+0100
TZOFFSETTO:+0000
TZNAME:GMT
DTSTART:20241027T010000
END:STANDARD
BEGIN:DAYLIGHT
TZOFFSETFROM:+0000
TZOFFSETTO:+0100
TZNAME:BST
DTSTART:20250330T010000
END:DAYLIGHT
BEGIN:STANDARD
TZOFFSETFROM:+0100
TZOFFSETTO:+0000
TZNAME:GMT
DTSTART:20251026T010000
END:STANDARD
END:VTIMEZONE
BEGIN:VEVENT
DTSTART;TZID=Europe/London:20241005T173000
DTEND;TZID=Europe/London:20241005T220000
DTSTAMP:20260422T010708
CREATED:20240813T204434Z
LAST-MODIFIED:20240813T204434Z
UID:1789-1728149400-1728165600@otonloyeuk.co.uk
SUMMARY:October 2024 Monthly Meeting
DESCRIPTION:Venue: All Saints Church New Cross\, London \nAgenda: To be sent via the Otonloye UK Branch WhatsApp group \nDress code: Full Itsekiri attire \nWe look forward to seeing you there! \nThank you\, \nOtonloye UK 1968 London Branch Secretariat \nAdditional notes: \n\nPlease dress fully in your Itsekiri attire: tie wrapper and wear a blouse (women) and kemije (men).\nPlease come on time\, as the meeting start time is 5:30 pm.
URL:https://otonloyeuk.co.uk/event/october-2024-monthly-meeting/
LOCATION:All Saints Church\, 105 New Cross Road\, London\, London\, SE14 5DJ\, United Kingdom
CATEGORIES:Otonloye UK Monthly Meeting
ATTACH;FMTTYPE=image/jpeg:https://otonloyeuk.co.uk/wp-content/uploads/2024/07/Otonloye-UK-June-2024-Meeting-119.jpg
END:VEVENT
END:VCALENDAR