BEGIN:VCALENDAR
VERSION:2.0
PRODID:-//Warri Progressive Society UK - ECPv6.15.17//NONSGML v1.0//EN
CALSCALE:GREGORIAN
METHOD:PUBLISH
X-WR-CALNAME:Warri Progressive Society UK
X-ORIGINAL-URL:https://otonloyeuk.co.uk
X-WR-CALDESC:Events for Warri Progressive Society UK
REFRESH-INTERVAL;VALUE=DURATION:PT1H
X-Robots-Tag:noindex
X-PUBLISHED-TTL:PT1H
BEGIN:VTIMEZONE
TZID:Europe/London
BEGIN:DAYLIGHT
TZOFFSETFROM:+0000
TZOFFSETTO:+0100
TZNAME:BST
DTSTART:20220327T010000
END:DAYLIGHT
BEGIN:STANDARD
TZOFFSETFROM:+0100
TZOFFSETTO:+0000
TZNAME:GMT
DTSTART:20221030T010000
END:STANDARD
BEGIN:DAYLIGHT
TZOFFSETFROM:+0000
TZOFFSETTO:+0100
TZNAME:BST
DTSTART:20230326T010000
END:DAYLIGHT
BEGIN:STANDARD
TZOFFSETFROM:+0100
TZOFFSETTO:+0000
TZNAME:GMT
DTSTART:20231029T010000
END:STANDARD
BEGIN:DAYLIGHT
TZOFFSETFROM:+0000
TZOFFSETTO:+0100
TZNAME:BST
DTSTART:20240331T010000
END:DAYLIGHT
BEGIN:STANDARD
TZOFFSETFROM:+0100
TZOFFSETTO:+0000
TZNAME:GMT
DTSTART:20241027T010000
END:STANDARD
BEGIN:DAYLIGHT
TZOFFSETFROM:+0000
TZOFFSETTO:+0100
TZNAME:BST
DTSTART:20250330T010000
END:DAYLIGHT
BEGIN:STANDARD
TZOFFSETFROM:+0100
TZOFFSETTO:+0000
TZNAME:GMT
DTSTART:20251026T010000
END:STANDARD
END:VTIMEZONE
BEGIN:VEVENT
DTSTART;TZID=Europe/London:20240302T180000
DTEND;TZID=Europe/London:20240302T210000
DTSTAMP:20260421T155235
CREATED:20240214T150439Z
LAST-MODIFIED:20240214T150846Z
UID:621-1709402400-1709413200@otonloyeuk.co.uk
SUMMARY:March 2024 Monthly Meeting
DESCRIPTION:Notice of Meeting for Warri Progressive Society alias Otonloye UK Branch\nDate: 2nd March 2024 \nTime: 6 pm to 9 pm \nVenue: All Saints Church New Cross\, London \nAgenda: To be sent via the Otonloye UK Branch WhatsApp group \nDress code: Full Itsekiri attire \nWe look forward to seeing you there! \nThank you\, \nOtonloye UK Branch Committee \nAdditional notes: \n\nPlease dress fully in your Itsekiri attire: tie wrapper and wear a blouse (women) and kemije (men).\nPlease come on time\, as the meeting start time is 6 pm.
URL:https://otonloyeuk.co.uk/event/march-2024-monthly-meeting/
LOCATION:All Saints Church\, 105 New Cross Road\, London\, London\, SE14 5DJ\, United Kingdom
CATEGORIES:Otonloye UK Monthly Meeting
ATTACH;FMTTYPE=image/jpeg:https://otonloyeuk.co.uk/wp-content/uploads/2023/10/PXL_20230902_200043790.MP_.jpg
END:VEVENT
BEGIN:VEVENT
DTSTART;TZID=Europe/London:20231007T180000
DTEND;TZID=Europe/London:20231007T210000
DTSTAMP:20260421T155235
CREATED:20230806T215204Z
LAST-MODIFIED:20231001T225732Z
UID:356-1696701600-1696712400@otonloyeuk.co.uk
SUMMARY:October 2023 Monthly Meeting
DESCRIPTION:Notice of Meeting for Warri Progressive Society alias Otonloye UK Branch\nDate: 7th October 2023 \nTime: 6 pm to 9 pm \nVenue: All Saints Church New Cross\, London \nAgenda: To be sent via the Otonloye UK Branch WhatsApp group \nDress code: Full Itsekiri attire \nWe look forward to seeing you there! \nThank you\, \nOtonloye UK Branch Committee \nAdditional notes: \n\nPlease dress fully in your Itsekiri attire: tie wrapper and wear a blouse (women) and kemije (men).\nPlease come on time\, as the meeting start time is 6 pm.
URL:https://otonloyeuk.co.uk/event/october-2023-monthly-meeting/
LOCATION:All Saints Church\, 105 New Cross Road\, London\, London\, SE14 5DJ\, United Kingdom
CATEGORIES:Otonloye UK Monthly Meeting
ATTACH;FMTTYPE=image/jpeg:https://otonloyeuk.co.uk/wp-content/uploads/2023/08/FB_Otonloye_1691348270775.jpg
END:VEVENT
BEGIN:VEVENT
DTSTART;TZID=Europe/London:20230902T180000
DTEND;TZID=Europe/London:20230902T210000
DTSTAMP:20260421T155235
CREATED:20230806T214547Z
LAST-MODIFIED:20231001T235051Z
UID:354-1693677600-1693688400@otonloyeuk.co.uk
SUMMARY:Otonloye UK September Monthly Meeting
DESCRIPTION:
URL:https://otonloyeuk.co.uk/event/otonloye-uk-september-monthly-meeting/
LOCATION:All Saints Church\, 105 New Cross Road\, London\, London\, SE14 5DJ\, United Kingdom
CATEGORIES:Otonloye UK Monthly Meeting
ATTACH;FMTTYPE=image/jpeg:https://otonloyeuk.co.uk/wp-content/uploads/2023/08/364162326_10232685053694582_7324047484208551042_n.jpg
END:VEVENT
BEGIN:VEVENT
DTSTART;TZID=Europe/London:20230805T180000
DTEND;TZID=Europe/London:20230805T210000
DTSTAMP:20260421T155235
CREATED:20230806T154919Z
LAST-MODIFIED:20230806T154956Z
UID:254-1691258400-1691269200@otonloyeuk.co.uk
SUMMARY:Otonloye UK August Monthly Meeting
DESCRIPTION:
URL:https://otonloyeuk.co.uk/event/otonloye-uk-august-monthly-meeting/
LOCATION:All Saints Church\, 105 New Cross Road\, London\, London\, SE14 5DJ\, United Kingdom
ATTACH;FMTTYPE=image/jpeg:https://otonloyeuk.co.uk/wp-content/uploads/2023/08/364162326_10232685053694582_7324047484208551042_n.jpg
END:VEVENT
END:VCALENDAR