BEGIN:VCALENDAR
VERSION:2.0
PRODID:-//Warri Progressive Society UK - ECPv6.15.17//NONSGML v1.0//EN
CALSCALE:GREGORIAN
METHOD:PUBLISH
X-WR-CALNAME:Warri Progressive Society UK
X-ORIGINAL-URL:https://otonloyeuk.co.uk
X-WR-CALDESC:Events for Warri Progressive Society UK
REFRESH-INTERVAL;VALUE=DURATION:PT1H
X-Robots-Tag:noindex
X-PUBLISHED-TTL:PT1H
BEGIN:VTIMEZONE
TZID:Europe/London
BEGIN:DAYLIGHT
TZOFFSETFROM:+0000
TZOFFSETTO:+0100
TZNAME:BST
DTSTART:20220327T010000
END:DAYLIGHT
BEGIN:STANDARD
TZOFFSETFROM:+0100
TZOFFSETTO:+0000
TZNAME:GMT
DTSTART:20221030T010000
END:STANDARD
BEGIN:DAYLIGHT
TZOFFSETFROM:+0000
TZOFFSETTO:+0100
TZNAME:BST
DTSTART:20230326T010000
END:DAYLIGHT
BEGIN:STANDARD
TZOFFSETFROM:+0100
TZOFFSETTO:+0000
TZNAME:GMT
DTSTART:20231029T010000
END:STANDARD
BEGIN:DAYLIGHT
TZOFFSETFROM:+0000
TZOFFSETTO:+0100
TZNAME:BST
DTSTART:20240331T010000
END:DAYLIGHT
BEGIN:STANDARD
TZOFFSETFROM:+0100
TZOFFSETTO:+0000
TZNAME:GMT
DTSTART:20241027T010000
END:STANDARD
BEGIN:DAYLIGHT
TZOFFSETFROM:+0000
TZOFFSETTO:+0100
TZNAME:BST
DTSTART:20250330T010000
END:DAYLIGHT
BEGIN:STANDARD
TZOFFSETFROM:+0100
TZOFFSETTO:+0000
TZNAME:GMT
DTSTART:20251026T010000
END:STANDARD
END:VTIMEZONE
BEGIN:VEVENT
DTSTART;TZID=Europe/London:20241102T170000
DTEND;TZID=Europe/London:20241102T220000
DTSTAMP:20260421T065200
CREATED:20240813T203439Z
LAST-MODIFIED:20240823T071012Z
UID:1783-1730566800-1730584800@otonloyeuk.co.uk
SUMMARY:2024 End of Year Party
DESCRIPTION:Otonloye UK 1968 London Branch’s welcomes members and families of Otonloye to the End of Year Party and Award Ceremony. This year’s edition is a highly anticipated event that will bring together members of Warri Progressive Society (Alias Otonloye) for an evening of celebration and cultural pride. This festive gathering marks the culmination of the year’s activities and honours outstanding contributions. Come dressed in traditional Itsekiri attire\, ready to dance to vibrant Itsekiri music as awards are presented to distinguished members.
URL:https://otonloyeuk.co.uk/event/2024-end-of-year-party/
LOCATION:All Saints Church\, 105 New Cross Road\, London\, London\, SE14 5DJ\, United Kingdom
CATEGORIES:End of Year Party
ATTACH;FMTTYPE=image/jpeg:https://otonloyeuk.co.uk/wp-content/uploads/2024/08/20240727_185054.jpg
END:VEVENT
BEGIN:VEVENT
DTSTART;TZID=Europe/London:20241005T173000
DTEND;TZID=Europe/London:20241005T220000
DTSTAMP:20260421T065200
CREATED:20240813T204434Z
LAST-MODIFIED:20240813T204434Z
UID:1789-1728149400-1728165600@otonloyeuk.co.uk
SUMMARY:October 2024 Monthly Meeting
DESCRIPTION:Venue: All Saints Church New Cross\, London \nAgenda: To be sent via the Otonloye UK Branch WhatsApp group \nDress code: Full Itsekiri attire \nWe look forward to seeing you there! \nThank you\, \nOtonloye UK 1968 London Branch Secretariat \nAdditional notes: \n\nPlease dress fully in your Itsekiri attire: tie wrapper and wear a blouse (women) and kemije (men).\nPlease come on time\, as the meeting start time is 5:30 pm.
URL:https://otonloyeuk.co.uk/event/october-2024-monthly-meeting/
LOCATION:All Saints Church\, 105 New Cross Road\, London\, London\, SE14 5DJ\, United Kingdom
CATEGORIES:Otonloye UK Monthly Meeting
ATTACH;FMTTYPE=image/jpeg:https://otonloyeuk.co.uk/wp-content/uploads/2024/07/Otonloye-UK-June-2024-Meeting-119.jpg
END:VEVENT
BEGIN:VEVENT
DTSTART;TZID=Europe/London:20240907T173000
DTEND;TZID=Europe/London:20240907T213000
DTSTAMP:20260421T065200
CREATED:20240813T204105Z
LAST-MODIFIED:20240813T204105Z
UID:1787-1725730200-1725744600@otonloyeuk.co.uk
SUMMARY:September 2024 Monthly Meeting
DESCRIPTION:Venue: All Saints Church New Cross\, London \nAgenda: To be sent via the Otonloye UK Branch WhatsApp group \nDress code: Full Itsekiri attire \nWe look forward to seeing you there! \nThank you\, \nOtonloye UK Branch Secretariat \nAdditional notes: \n\nPlease dress fully in your Itsekiri attire: tie wrapper and wear a blouse (women) and kemije (men).\nPlease come on time\, as the meeting start time is 6 pm.
URL:https://otonloyeuk.co.uk/event/september-2024-monthly-meeting/
LOCATION:All Saints Church\, 105 New Cross Road\, London\, London\, SE14 5DJ\, United Kingdom
CATEGORIES:Otonloye UK Monthly Meeting
ATTACH;FMTTYPE=image/jpeg:https://otonloyeuk.co.uk/wp-content/uploads/2024/07/Otonloye-UK-2103.jpg
END:VEVENT
BEGIN:VEVENT
DTSTART;TZID=Europe/London:20240803T180000
DTEND;TZID=Europe/London:20240803T210000
DTSTAMP:20260421T065200
CREATED:20240214T154205Z
LAST-MODIFIED:20240214T154205Z
UID:634-1722708000-1722718800@otonloyeuk.co.uk
SUMMARY:August 2024 Monthly Meeting
DESCRIPTION:Venue: All Saints Church New Cross\, London \nAgenda: To be sent via the Otonloye UK Branch WhatsApp group \nDress code: Full Itsekiri attire \nWe look forward to seeing you there! \nThank you\, \nOtonloye UK Branch Committee \nAdditional notes: \n\nPlease dress fully in your Itsekiri attire: tie wrapper and wear a blouse (women) and kemije (men).\nPlease come on time\, as the meeting start time is 6 pm.
URL:https://otonloyeuk.co.uk/event/august-2024-monthly-meeting/
LOCATION:All Saints Church\, 105 New Cross Road\, London\, London\, SE14 5DJ\, United Kingdom
CATEGORIES:Otonloye UK Monthly Meeting
ATTACH;FMTTYPE=image/jpeg:https://otonloyeuk.co.uk/wp-content/uploads/2023/10/366075510_10232734350806979_5357287210772300565_n.jpg
END:VEVENT
BEGIN:VEVENT
DTSTART;TZID=Europe/London:20240706T180000
DTEND;TZID=Europe/London:20240706T210000
DTSTAMP:20260421T065200
CREATED:20240214T152541Z
LAST-MODIFIED:20240214T152557Z
UID:630-1720288800-1720299600@otonloyeuk.co.uk
SUMMARY:July 2024 Monthly Meeting
DESCRIPTION:Date: 6th July 2024 \nTime: 6 pm to 9 pm \nVenue: All Saints Church New Cross\, London \nAgenda: To be sent via the Otonloye UK Branch WhatsApp group \nDress code: Full Itsekiri attire \nWe look forward to seeing you there! \nThank you\, \nOtonloye UK Branch Committee \nAdditional notes: \n\nPlease dress fully in your Itsekiri attire: tie wrapper and wear a blouse (women) and kemije (men).\nPlease come on time\, as the meeting start time is 6 pm.
URL:https://otonloyeuk.co.uk/event/july-2024-monthly-meeting/
LOCATION:All Saints Church\, 105 New Cross Road\, London\, London\, SE14 5DJ\, United Kingdom
ATTACH;FMTTYPE=image/jpeg:https://otonloyeuk.co.uk/wp-content/uploads/2023/10/PXL_20230902_183020397.jpg
END:VEVENT
BEGIN:VEVENT
DTSTART;TZID=Europe/London:20240601T180000
DTEND;TZID=Europe/London:20240601T210000
DTSTAMP:20260421T065200
CREATED:20240214T152056Z
LAST-MODIFIED:20240214T153242Z
UID:628-1717264800-1717275600@otonloyeuk.co.uk
SUMMARY:June 2024 Monthly Meeting
DESCRIPTION:Date: 1st June 2024 \nTime: 6 pm to 9 pm \nVenue: All Saints Church New Cross\, London \nAgenda: To be sent via the Otonloye UK Branch WhatsApp group \nDress code: Full Itsekiri attire \nWe look forward to seeing you there! \nThank you\, \nOtonloye UK Branch Committee \nAdditional notes: \n\nPlease dress fully in your Itsekiri attire: tie wrapper and wear a blouse (women) and kemije (men).\nPlease come on time\, as the meeting start time is 6 pm.
URL:https://otonloyeuk.co.uk/event/june-2024-monthly-meeting/
LOCATION:All Saints Church\, 105 New Cross Road\, London\, London\, SE14 5DJ\, United Kingdom
CATEGORIES:Otonloye UK Monthly Meeting
ATTACH;FMTTYPE=image/jpeg:https://otonloyeuk.co.uk/wp-content/uploads/2023/10/365815795_10232734360927232_8800711075328787947_n.jpg
END:VEVENT
BEGIN:VEVENT
DTSTART;TZID=Europe/London:20240504T180000
DTEND;TZID=Europe/London:20240504T210000
DTSTAMP:20260421T065200
CREATED:20240214T151650Z
LAST-MODIFIED:20240214T151650Z
UID:626-1714845600-1714856400@otonloyeuk.co.uk
SUMMARY:May 2024 Monthly Meeting
DESCRIPTION:Date: 6th May 2024 \nTime: 6 pm to 9 pm \nVenue: All Saints Church New Cross\, London \nAgenda: To be sent via the Otonloye UK Branch WhatsApp group \nDress code: Full Itsekiri attire \nWe look forward to seeing you there! \nThank you\, \nOtonloye UK Branch Committee \nAdditional notes: \n\nPlease dress fully in your Itsekiri attire: tie wrapper and wear a blouse (women) and kemije (men).\nPlease come on time\, as the meeting start time is 6 pm.
URL:https://otonloyeuk.co.uk/event/may-2024-monthly-meeting/
LOCATION:All Saints Church\, 105 New Cross Road\, London\, London\, SE14 5DJ\, United Kingdom
CATEGORIES:Otonloye UK Monthly Meeting
ATTACH;FMTTYPE=image/jpeg:https://otonloyeuk.co.uk/wp-content/uploads/2023/10/366194721_10232734385607849_6049030286178756782_n.jpg
END:VEVENT
BEGIN:VEVENT
DTSTART;TZID=Europe/London:20240406T180000
DTEND;TZID=Europe/London:20240406T210000
DTSTAMP:20260421T065200
CREATED:20240214T151122Z
LAST-MODIFIED:20240214T151122Z
UID:624-1712426400-1712437200@otonloyeuk.co.uk
SUMMARY:April 2024 Monthly Meeting
DESCRIPTION:Notice of Meeting for Warri Progressive Society alias Otonloye UK Branch\nDate: 6th April 2024 \nTime: 6 pm to 9 pm \nVenue: All Saints Church New Cross\, London \nAgenda: To be sent via the Otonloye UK Branch WhatsApp group \nDress code: Full Itsekiri attire \nWe look forward to seeing you there! \nThank you\, \nOtonloye UK Branch Committee \nAdditional notes: \n\nPlease dress fully in your Itsekiri attire: tie wrapper and wear a blouse (women) and kemije (men).\nPlease come on time\, as the meeting start time is 6 pm.
URL:https://otonloyeuk.co.uk/event/april-2024-monthly-meeting/
LOCATION:All Saints Church\, 105 New Cross Road\, London\, London\, SE14 5DJ\, United Kingdom
CATEGORIES:Otonloye UK Monthly Meeting
ATTACH;FMTTYPE=image/jpeg:https://otonloyeuk.co.uk/wp-content/uploads/2023/10/365819135_10232734314126062_923120207766565737_n.jpg
END:VEVENT
BEGIN:VEVENT
DTSTART;TZID=Europe/London:20240302T180000
DTEND;TZID=Europe/London:20240302T210000
DTSTAMP:20260421T065200
CREATED:20240214T150439Z
LAST-MODIFIED:20240214T150846Z
UID:621-1709402400-1709413200@otonloyeuk.co.uk
SUMMARY:March 2024 Monthly Meeting
DESCRIPTION:Notice of Meeting for Warri Progressive Society alias Otonloye UK Branch\nDate: 2nd March 2024 \nTime: 6 pm to 9 pm \nVenue: All Saints Church New Cross\, London \nAgenda: To be sent via the Otonloye UK Branch WhatsApp group \nDress code: Full Itsekiri attire \nWe look forward to seeing you there! \nThank you\, \nOtonloye UK Branch Committee \nAdditional notes: \n\nPlease dress fully in your Itsekiri attire: tie wrapper and wear a blouse (women) and kemije (men).\nPlease come on time\, as the meeting start time is 6 pm.
URL:https://otonloyeuk.co.uk/event/march-2024-monthly-meeting/
LOCATION:All Saints Church\, 105 New Cross Road\, London\, London\, SE14 5DJ\, United Kingdom
CATEGORIES:Otonloye UK Monthly Meeting
ATTACH;FMTTYPE=image/jpeg:https://otonloyeuk.co.uk/wp-content/uploads/2023/10/PXL_20230902_200043790.MP_.jpg
END:VEVENT
BEGIN:VEVENT
DTSTART;TZID=Europe/London:20231007T180000
DTEND;TZID=Europe/London:20231007T210000
DTSTAMP:20260421T065200
CREATED:20230806T215204Z
LAST-MODIFIED:20231001T225732Z
UID:356-1696701600-1696712400@otonloyeuk.co.uk
SUMMARY:October 2023 Monthly Meeting
DESCRIPTION:Notice of Meeting for Warri Progressive Society alias Otonloye UK Branch\nDate: 7th October 2023 \nTime: 6 pm to 9 pm \nVenue: All Saints Church New Cross\, London \nAgenda: To be sent via the Otonloye UK Branch WhatsApp group \nDress code: Full Itsekiri attire \nWe look forward to seeing you there! \nThank you\, \nOtonloye UK Branch Committee \nAdditional notes: \n\nPlease dress fully in your Itsekiri attire: tie wrapper and wear a blouse (women) and kemije (men).\nPlease come on time\, as the meeting start time is 6 pm.
URL:https://otonloyeuk.co.uk/event/october-2023-monthly-meeting/
LOCATION:All Saints Church\, 105 New Cross Road\, London\, London\, SE14 5DJ\, United Kingdom
CATEGORIES:Otonloye UK Monthly Meeting
ATTACH;FMTTYPE=image/jpeg:https://otonloyeuk.co.uk/wp-content/uploads/2023/08/FB_Otonloye_1691348270775.jpg
END:VEVENT
BEGIN:VEVENT
DTSTART;TZID=Europe/London:20230902T180000
DTEND;TZID=Europe/London:20230902T210000
DTSTAMP:20260421T065200
CREATED:20230806T214547Z
LAST-MODIFIED:20231001T235051Z
UID:354-1693677600-1693688400@otonloyeuk.co.uk
SUMMARY:Otonloye UK September Monthly Meeting
DESCRIPTION:
URL:https://otonloyeuk.co.uk/event/otonloye-uk-september-monthly-meeting/
LOCATION:All Saints Church\, 105 New Cross Road\, London\, London\, SE14 5DJ\, United Kingdom
CATEGORIES:Otonloye UK Monthly Meeting
ATTACH;FMTTYPE=image/jpeg:https://otonloyeuk.co.uk/wp-content/uploads/2023/08/364162326_10232685053694582_7324047484208551042_n.jpg
END:VEVENT
BEGIN:VEVENT
DTSTART;TZID=Europe/London:20230805T180000
DTEND;TZID=Europe/London:20230805T210000
DTSTAMP:20260421T065200
CREATED:20230806T154919Z
LAST-MODIFIED:20230806T154956Z
UID:254-1691258400-1691269200@otonloyeuk.co.uk
SUMMARY:Otonloye UK August Monthly Meeting
DESCRIPTION:
URL:https://otonloyeuk.co.uk/event/otonloye-uk-august-monthly-meeting/
LOCATION:All Saints Church\, 105 New Cross Road\, London\, London\, SE14 5DJ\, United Kingdom
ATTACH;FMTTYPE=image/jpeg:https://otonloyeuk.co.uk/wp-content/uploads/2023/08/364162326_10232685053694582_7324047484208551042_n.jpg
END:VEVENT
END:VCALENDAR